BEGIN:VCALENDAR
VERSION:2.0
PRODID:-//wp-events-plugin.com//7.2.3.1//EN
TZID:Europe/Madrid
X-WR-TIMEZONE:Europe/Madrid
BEGIN:VEVENT
UID:890@sagradocorazontalavera.org
DTSTART;TZID=Europe/Madrid:20230725T100000
DTEND;TZID=Europe/Madrid:20230725T210000
DTSTAMP:20191210T080537Z
URL:https://www.sagradocorazontalavera.org/events/hoy-es-martes-confiesate
 -2023-07-25
SUMMARY:Hoy es martes\, ¡CONFIÉSATE!
DESCRIPTION:El párroco de la parroquia de Sagrado Corazón de Jesús de Ta
 lavera estará disponible cada martes para confesar o cualquier otra consu
 lta espiritual que puedas tener. Por la mañana le encontrarás de 10:00 a
  13:45 y por la tarde de 16:00 a 21:00 horas. No pierdas la oportunidad.\n
 \n&nbsp\;\n\n
ATTACH;FMTTYPE=image/jpeg:https://www.sagradocorazontalavera.org/wp-conten
 t/uploads/2019/09/martes_parroquia.jpg
LOCATION:Parroquia Sagrado Corazón de Jesús Talavera\, Av. Francisco Agui
 rre\, 104\, 45600 Talavera de la Reina\, Toledo\, TALAVERA DE LA REINA\, T
 oledo\, 45600\, España
GEO:39.9705651;-4.821561299999985
X-APPLE-STRUCTURED-LOCATION;VALUE=URI;X-ADDRESS=Av. Francisco Aguirre\, 104
 \, 45600 Talavera de la Reina\, Toledo\, TALAVERA DE LA REINA\, Toledo\, 4
 5600\, España;X-APPLE-RADIUS=100;X-TITLE=Parroquia Sagrado Corazón de Je
 sús Talavera:geo:39.9705651,-4.821561299999985
END:VEVENT
BEGIN:VTIMEZONE
TZID:Europe/Madrid
X-LIC-LOCATION:Europe/Madrid
BEGIN:DAYLIGHT
DTSTART:20230326T030000
TZOFFSETFROM:+0100
TZOFFSETTO:+0200
TZNAME:CEST
END:DAYLIGHT
END:VTIMEZONE
END:VCALENDAR